BEGIN:VCALENDAR
VERSION:2.0
PRODID:-//bett - ECPv6.10.0//NONSGML v1.0//EN
CALSCALE:GREGORIAN
METHOD:PUBLISH
X-ORIGINAL-URL:https://bett-club.de
X-WR-CALDESC:Veranstaltungen für bett
REFRESH-INTERVAL;VALUE=DURATION:PT1H
X-Robots-Tag:noindex
X-PUBLISHED-TTL:PT1H
BEGIN:VTIMEZONE
TZID:Europe/Berlin
BEGIN:DAYLIGHT
TZOFFSETFROM:+0100
TZOFFSETTO:+0200
TZNAME:CEST
DTSTART:20240331T010000
END:DAYLIGHT
BEGIN:STANDARD
TZOFFSETFROM:+0200
TZOFFSETTO:+0100
TZNAME:CET
DTSTART:20241027T010000
END:STANDARD
END:VTIMEZONE
BEGIN:VEVENT
DTSTART;TZID=Europe/Berlin:20240906T200000
DTEND;TZID=Europe/Berlin:20240906T220000
DTSTAMP:20260422T155933
CREATED:20240415T110854Z
LAST-MODIFIED:20240823T124900Z
UID:10002167-1725652800-1725660000@bett-club.de
SUMMARY:DORIAN - ABGESAGT!
DESCRIPTION:
URL:https://bett-club.de/event/dorian/
ATTACH;FMTTYPE=image/jpeg:https://bett-club.de/wp-content/uploads/2024/04/dorian.jpg
END:VEVENT
BEGIN:VEVENT
DTSTART;TZID=Europe/Berlin:20240913T200000
DTEND;TZID=Europe/Berlin:20240913T230000
DTSTAMP:20260422T155933
CREATED:20240514T143415Z
LAST-MODIFIED:20240521T102257Z
UID:10002178-1726257600-1726268400@bett-club.de
SUMMARY:COVERSNAKE - A Tribute to Whitesnake
DESCRIPTION:
URL:https://bett-club.de/event/coversnake-a-tribute-to-whitesnake/
ATTACH;FMTTYPE=image/jpeg:https://bett-club.de/wp-content/uploads/2024/05/ws.jpg
END:VEVENT
BEGIN:VEVENT
DTSTART;TZID=Europe/Berlin:20240914T200000
DTEND;TZID=Europe/Berlin:20240914T230000
DTSTAMP:20260422T155933
CREATED:20240724T120048Z
LAST-MODIFIED:20240913T115440Z
UID:10002218-1726344000-1726354800@bett-club.de
SUMMARY:REVOLTE TANZBEIN - Support: Aloha In Hell
DESCRIPTION:
URL:https://bett-club.de/event/revolte-tanzbein-support-aloha-in-hell/
ATTACH;FMTTYPE=image/jpeg:https://bett-club.de/wp-content/uploads/2024/07/RevolteTanzbein_-scaled.jpg
END:VEVENT
BEGIN:VEVENT
DTSTART;TZID=Europe/Berlin:20240918T200000
DTEND;TZID=Europe/Berlin:20240918T230000
DTSTAMP:20260422T155933
CREATED:20240227T122610Z
LAST-MODIFIED:20240807T105429Z
UID:10002159-1726689600-1726700400@bett-club.de
SUMMARY:PAVLOV´S DOG
DESCRIPTION:
URL:https://bett-club.de/event/pavlovs-dog/
ATTACH;FMTTYPE=image/jpeg:https://bett-club.de/wp-content/uploads/2024/02/pd-scaled.jpg
END:VEVENT
BEGIN:VEVENT
DTSTART;TZID=Europe/Berlin:20240920T200000
DTEND;TZID=Europe/Berlin:20240920T230000
DTSTAMP:20260422T155933
CREATED:20240717T160122Z
LAST-MODIFIED:20240823T133812Z
UID:10002214-1726862400-1726873200@bett-club.de
SUMMARY:BIRD´S VIEW
DESCRIPTION:
URL:https://bett-club.de/event/birds-view/
ATTACH;FMTTYPE=image/png:https://bett-club.de/wp-content/uploads/2024/07/Bildschirmfoto-2024-07-17-um-17.48.52-1.png
END:VEVENT
BEGIN:VEVENT
DTSTART;TZID=Europe/Berlin:20240923T200000
DTEND;TZID=Europe/Berlin:20240923T230000
DTSTAMP:20260422T155933
CREATED:20230817T191010Z
LAST-MODIFIED:20240807T132742Z
UID:10001982-1727121600-1727132400@bett-club.de
SUMMARY:ODYN V KANOE
DESCRIPTION:
URL:https://bett-club.de/event/odyn-v-kanoe-benefizveranstaltung-fuer-die-ukraine/
ATTACH;FMTTYPE=image/png:https://bett-club.de/wp-content/uploads/2023/08/Bild.png
END:VEVENT
BEGIN:VEVENT
DTSTART;TZID=Europe/Berlin:20240924T200000
DTEND;TZID=Europe/Berlin:20240924T200000
DTSTAMP:20260422T155933
CREATED:20230817T191411Z
LAST-MODIFIED:20240819T143346Z
UID:10002049-1727208000-1727208000@bett-club.de
SUMMARY:LUVRE47
DESCRIPTION:
URL:https://bett-club.de/event/luvre47/
ATTACH;FMTTYPE=image/jpeg:https://bett-club.de/wp-content/uploads/2023/08/luvre.jpg
END:VEVENT
BEGIN:VEVENT
DTSTART;TZID=Europe/Berlin:20240926T200000
DTEND;TZID=Europe/Berlin:20240926T230000
DTSTAMP:20260422T155933
CREATED:20240819T140630Z
LAST-MODIFIED:20240819T140630Z
UID:10002222-1727380800-1727391600@bett-club.de
SUMMARY:BAGOSSY BROTHERS COMPANY
DESCRIPTION:
URL:https://bett-club.de/event/bagossy-brothers-company/
ATTACH;FMTTYPE=image/jpeg:https://bett-club.de/wp-content/uploads/2024/08/bb.jpg
END:VEVENT
BEGIN:VEVENT
DTSTART;TZID=Europe/Berlin:20240928T210000
DTEND;TZID=Europe/Berlin:20240928T233000
DTSTAMP:20260422T155933
CREATED:20240215T150823Z
LAST-MODIFIED:20240911T110721Z
UID:10002149-1727557200-1727566200@bett-club.de
SUMMARY:abgesagt! CHEMICAL SWEET KID - Support: Cattac
DESCRIPTION:
URL:https://bett-club.de/event/chemical-sweet-kid-support-cattac/
ATTACH;FMTTYPE=image/jpeg:https://bett-club.de/wp-content/uploads/2024/02/427067462_428409959612524_3794346412713613599_n.jpg
END:VEVENT
BEGIN:VEVENT
DTSTART;TZID=Europe/Berlin:20240929T190000
DTEND;TZID=Europe/Berlin:20240929T230000
DTSTAMP:20260422T155933
CREATED:20231213T110319Z
LAST-MODIFIED:20240918T130620Z
UID:10002128-1727636400-1727650800@bett-club.de
SUMMARY:VISIONS OF ATLANTIS - Support: ILLUMISHADE & SERAINA TELLI
DESCRIPTION:
URL:https://bett-club.de/event/visions-of-atlantis-armada-tour-2024/
ATTACH;FMTTYPE=image/jpeg:https://bett-club.de/wp-content/uploads/2023/12/VOA_INSTA_POST_PAGE-1_web-scaled.jpg
END:VEVENT
END:VCALENDAR