BEGIN:VCALENDAR
VERSION:2.0
PRODID:-//bett - ECPv6.10.0//NONSGML v1.0//EN
CALSCALE:GREGORIAN
METHOD:PUBLISH
X-WR-CALNAME:bett
X-ORIGINAL-URL:https://bett-club.de
X-WR-CALDESC:Veranstaltungen für bett
REFRESH-INTERVAL;VALUE=DURATION:PT1H
X-Robots-Tag:noindex
X-PUBLISHED-TTL:PT1H
BEGIN:VTIMEZONE
TZID:Europe/Berlin
BEGIN:DAYLIGHT
TZOFFSETFROM:+0100
TZOFFSETTO:+0200
TZNAME:CEST
DTSTART:20260329T010000
END:DAYLIGHT
BEGIN:STANDARD
TZOFFSETFROM:+0200
TZOFFSETTO:+0100
TZNAME:CET
DTSTART:20261025T010000
END:STANDARD
END:VTIMEZONE
BEGIN:VEVENT
DTSTART;TZID=Europe/Berlin:20260621T200000
DTEND;TZID=Europe/Berlin:20260621T230000
DTSTAMP:20260422T141052
CREATED:20260211T165421Z
LAST-MODIFIED:20260402T095030Z
UID:5328-1782072000-1782082800@bett-club.de
SUMMARY:ELDER - Support: O.R.B
DESCRIPTION:
URL:https://bett-club.de/event/elder/
ATTACH;FMTTYPE=image/jpeg:https://bett-club.de/wp-content/uploads/2026/02/Elder_by_Leon_de_Backer_2-scaled.jpg
END:VEVENT
END:VCALENDAR